BEGIN:VCALENDAR
VERSION:2.0
PRODID:-//Friends of the Riverfront - ECPv6.15.17.1//NONSGML v1.0//EN
CALSCALE:GREGORIAN
METHOD:PUBLISH
X-WR-CALNAME:Friends of the Riverfront
X-ORIGINAL-URL:https://friendsoftheriverfront.org
X-WR-CALDESC:Events for Friends of the Riverfront
REFRESH-INTERVAL;VALUE=DURATION:PT1H
X-Robots-Tag:noindex
X-PUBLISHED-TTL:PT1H
BEGIN:VTIMEZONE
TZID:America/New_York
BEGIN:DAYLIGHT
TZOFFSETFROM:-0500
TZOFFSETTO:-0400
TZNAME:EDT
DTSTART:20250309T070000
END:DAYLIGHT
BEGIN:STANDARD
TZOFFSETFROM:-0400
TZOFFSETTO:-0500
TZNAME:EST
DTSTART:20251102T060000
END:STANDARD
BEGIN:DAYLIGHT
TZOFFSETFROM:-0500
TZOFFSETTO:-0400
TZNAME:EDT
DTSTART:20260308T070000
END:DAYLIGHT
BEGIN:STANDARD
TZOFFSETFROM:-0400
TZOFFSETTO:-0500
TZNAME:EST
DTSTART:20261101T060000
END:STANDARD
BEGIN:DAYLIGHT
TZOFFSETFROM:-0500
TZOFFSETTO:-0400
TZNAME:EDT
DTSTART:20270314T070000
END:DAYLIGHT
BEGIN:STANDARD
TZOFFSETFROM:-0400
TZOFFSETTO:-0500
TZNAME:EST
DTSTART:20271107T060000
END:STANDARD
END:VTIMEZONE
BEGIN:VEVENT
DTSTART;TZID=America/New_York:20260507T100000
DTEND;TZID=America/New_York:20260507T120000
DTSTAMP:20260419T173641
CREATED:20260416T165158Z
LAST-MODIFIED:20260416T194111Z
UID:19724-1778148000-1778155200@friendsoftheriverfront.org
SUMMARY:Trail Care Thursday - Eliza Furnace Trailhead
DESCRIPTION:Join us for Trail Care along the Eliza Furnace section of the Three Rivers Heritage Trail!\n\n\nVolunteers will:\n\n 	Install sun shade sail\n	Plant annuals\n 	Collect litter along the trail and surrounding areas\n 	Remove stickers and graffiti from amenities\n 	Tend to pollinator garden\n 	Tend to tree tubes and cages\n 	Other general trail maintenance needs\n\n\n\nPlease wear sturdy shoes\, long pants\, and layered sleeves to be removed. Monitor the forecast and dress for the weather\, we will work through light to moderate rain. All other project supplies and equipment will be provided.\n\n\nOnce registered\, you will receive a confirmation email. An additional email will be sent the day prior to the workday with project details. Please reach out to Ashley Martin\, Trail Stewardship Program Manager\, with questions at ashley@friendsoftheriverfront.org.
URL:https://friendsoftheriverfront.org/event/trail-care-thursday-eliza-furnace-trailhead/
LOCATION:Eliza Furnace Trailhead\, 40.425891\, -79.953364
CATEGORIES:Volunteer Event,Volunteer Opportunity
ATTACH;FMTTYPE=image/jpeg:https://friendsoftheriverfront.org/wp-content/uploads/2026/04/IMG_4043-2-scaled.jpg
ORGANIZER;CN="Friends of the Riverfront":MAILTO:friends@friendsoftheriverfront.org
END:VEVENT
END:VCALENDAR