BEGIN:VCALENDAR
VERSION:2.0
PRODID:-//Friends of the Riverfront - ECPv6.15.17.1//NONSGML v1.0//EN
CALSCALE:GREGORIAN
METHOD:PUBLISH
X-WR-CALNAME:Friends of the Riverfront
X-ORIGINAL-URL:https://friendsoftheriverfront.org
X-WR-CALDESC:Events for Friends of the Riverfront
REFRESH-INTERVAL;VALUE=DURATION:PT1H
X-Robots-Tag:noindex
X-PUBLISHED-TTL:PT1H
BEGIN:VTIMEZONE
TZID:America/New_York
BEGIN:DAYLIGHT
TZOFFSETFROM:-0500
TZOFFSETTO:-0400
TZNAME:EDT
DTSTART:20240310T070000
END:DAYLIGHT
BEGIN:STANDARD
TZOFFSETFROM:-0400
TZOFFSETTO:-0500
TZNAME:EST
DTSTART:20241103T060000
END:STANDARD
BEGIN:DAYLIGHT
TZOFFSETFROM:-0500
TZOFFSETTO:-0400
TZNAME:EDT
DTSTART:20250309T070000
END:DAYLIGHT
BEGIN:STANDARD
TZOFFSETFROM:-0400
TZOFFSETTO:-0500
TZNAME:EST
DTSTART:20251102T060000
END:STANDARD
BEGIN:DAYLIGHT
TZOFFSETFROM:-0500
TZOFFSETTO:-0400
TZNAME:EDT
DTSTART:20260308T070000
END:DAYLIGHT
BEGIN:STANDARD
TZOFFSETFROM:-0400
TZOFFSETTO:-0500
TZNAME:EST
DTSTART:20261101T060000
END:STANDARD
END:VTIMEZONE
BEGIN:VEVENT
DTSTART;TZID=America/New_York:20250417T100000
DTEND;TZID=America/New_York:20250417T120000
DTSTAMP:20260424T090044
CREATED:20250313T195408Z
LAST-MODIFIED:20250313T195408Z
UID:18453-1744884000-1744891200@friendsoftheriverfront.org
SUMMARY:Trail Care Thursday - Marshall-Shadeland
DESCRIPTION:Join us on the Marshall-Shadeland segment of the Three Rivers Heritage Trail for a Trail Care Thursday opportunity! \n\nVolunteers will assist in addressing undesired vegetation\, tending to young trees\, collecting litter\, as well as other trail maintenance needs. Please wear sturdy shoes\, long pants\, and layered sleeves to be removed. Monitor the forecast and dress for the weather\, we will work through light to moderate rain. Bring a reusable water bottle\, water will not be available. All other project supplies and equipment will be provided.  \n\nOnce registered\, you will receive a confirmation email. An additional email will be sent the day prior to the workday with project details; registration after 12:00 pm will not receive the details email. \n\nPlease reach out to Ashley Martin\, Trail Stewardship Program Coordinator\, with questions at ashley@friendsoftheriverfront.org.
URL:https://friendsoftheriverfront.org/event/trail-care-thursday-marshall-shadeland/
LOCATION:Preble Ave – Three Rivers Heritage Trail Parking Lot\, 2405 Preble Ave\, Pittsburgh\, PA\, 15223\, United States
CATEGORIES:Volunteer Event,Volunteer Opportunity
ATTACH;FMTTYPE=image/jpeg:https://friendsoftheriverfront.org/wp-content/uploads/2025/03/IMG_5341-scaled.jpg
ORGANIZER;CN="Friends of the Riverfront%2C Events":MAILTO:greg@friendsoftheriverfront.org
END:VEVENT
END:VCALENDAR