BEGIN:VCALENDAR
VERSION:2.0
PRODID:-//Friends of the Riverfront - ECPv6.15.17.1//NONSGML v1.0//EN
CALSCALE:GREGORIAN
METHOD:PUBLISH
X-WR-CALNAME:Friends of the Riverfront
X-ORIGINAL-URL:https://friendsoftheriverfront.org
X-WR-CALDESC:Events for Friends of the Riverfront
REFRESH-INTERVAL;VALUE=DURATION:PT1H
X-Robots-Tag:noindex
X-PUBLISHED-TTL:PT1H
BEGIN:VTIMEZONE
TZID:America/New_York
BEGIN:DAYLIGHT
TZOFFSETFROM:-0500
TZOFFSETTO:-0400
TZNAME:EDT
DTSTART:20240310T070000
END:DAYLIGHT
BEGIN:STANDARD
TZOFFSETFROM:-0400
TZOFFSETTO:-0500
TZNAME:EST
DTSTART:20241103T060000
END:STANDARD
BEGIN:DAYLIGHT
TZOFFSETFROM:-0500
TZOFFSETTO:-0400
TZNAME:EDT
DTSTART:20250309T070000
END:DAYLIGHT
BEGIN:STANDARD
TZOFFSETFROM:-0400
TZOFFSETTO:-0500
TZNAME:EST
DTSTART:20251102T060000
END:STANDARD
BEGIN:DAYLIGHT
TZOFFSETFROM:-0500
TZOFFSETTO:-0400
TZNAME:EDT
DTSTART:20260308T070000
END:DAYLIGHT
BEGIN:STANDARD
TZOFFSETFROM:-0400
TZOFFSETTO:-0500
TZNAME:EST
DTSTART:20261101T060000
END:STANDARD
END:VTIMEZONE
BEGIN:VEVENT
DTSTART;TZID=America/New_York:20250204T100000
DTEND;TZID=America/New_York:20250204T120000
DTSTAMP:20260422T054610
CREATED:20250128T212453Z
LAST-MODIFIED:20250203T151343Z
UID:10001824-1738663200-1738670400@friendsoftheriverfront.org
SUMMARY:Trail Care Tuesday - Lawrenceville
DESCRIPTION:REGISTRATION IS FULL\n\nJoin us on the Lawrenceville segment of the Three Rivers Heritage Trail for a Trail Care Tuesday opportunity! \n\nVolunteers will assist in collecting litter\, clearing abandoned encampments\, cutting vines\, as well as other trail maintenance needs. Please wear sturdy shoes\, long pants\, and layered sleeves to be removed. Monitor the forecast and dress for the weather\, we will work through light to moderate rain and snow. In the chance of inclement weather\, including freezing temperatures\, we will cancel the event and inform volunteers via email as well as update the event post. Bring a reusable water bottle\, water will not be available. All other project supplies and equipment will be provided. Registration for this event will be capped at the first 10 volunteers registered.  \n\nOnce registered\, you will receive a confirmation email. An additional email will be sent the day prior to the workday with project details; registration after 12:00 pm will not receive the details email. \n\nPlease reach out to Ashley Martin\, Trail Stewardship Program Coordinator\, with questions at ashley@friendsoftheriverfront.org.
URL:https://friendsoftheriverfront.org/event/trail-care-tuesday-lawrenceville-2/
LOCATION:Lawrenceville – Three Rivers Heritage Trail Parking\, Lawrenceville Trail\, Pittsburgh\, PA\, 15201\, United States
CATEGORIES:Volunteer Event,Volunteer Opportunity
ATTACH;FMTTYPE=image/jpeg:https://friendsoftheriverfront.org/wp-content/uploads/2025/01/20240917_140506-1-scaled.jpg
ORGANIZER;CN="Friends of the Riverfront":MAILTO:friends@friendsoftheriverfront.org
END:VEVENT
BEGIN:VEVENT
DTSTART;TZID=America/New_York:20250211T100000
DTEND;TZID=America/New_York:20250211T120000
DTSTAMP:20260422T054610
CREATED:20250129T194946Z
LAST-MODIFIED:20250129T200300Z
UID:10001826-1739268000-1739275200@friendsoftheriverfront.org
SUMMARY:Trail Care Tuesday - River Avenue West
DESCRIPTION:Join us on the River Avenue West segment of the Three Rivers Heritage Trail for a Trail Care Tuesday opportunity! \n\nVolunteers will assist in trenching and root pruning mature trees to prepare them for transplant\, as well as other trail maintenance needs. Please wear sturdy shoes\, long pants\, and layered sleeves to be removed. Monitor the forecast and dress for the weather\, we will work through light to moderate rain and snow. Bring a reusable water bottle\, water will not be available. All other project supplies and equipment will be provided.  \n\nOnce registered\, you will receive a confirmation email. An additional email will be sent the day prior to the workday with project details; registration after 12:00 pm will not receive the details email. \n\nPlease reach out to Ashley Martin\, Trail Stewardship Program Coordinator\, with questions at ashley@friendsoftheriverfront.org.
URL:https://friendsoftheriverfront.org/event/trail-care-tuesday-river-avenue-west/
LOCATION:River Avenue West\, Madison Ave and River Ave\, Pittsburgh\, PA\, 15212\, United States
CATEGORIES:Volunteer Event,Volunteer Opportunity
ATTACH;FMTTYPE=image/jpeg:https://friendsoftheriverfront.org/wp-content/uploads/2025/01/20240426_113035-1-scaled.jpg
END:VEVENT
BEGIN:VEVENT
DTSTART;TZID=America/New_York:20250220T100000
DTEND;TZID=America/New_York:20250220T120000
DTSTAMP:20260422T054610
CREATED:20250205T203747Z
LAST-MODIFIED:20250218T165012Z
UID:10001825-1740045600-1740052800@friendsoftheriverfront.org
SUMMARY:Trail Care Thursday - River Avenue East (CANCELED)
DESCRIPTION:CANCELED DUE TO WEATHER \nPlease join us at one of our upcoming Trail Cares or Train on the Trail events! \n\n\nJoin us on the River Avenue East segment of the Three Rivers Heritage Trail for a Trail Care Thursday opportunity \n\nVolunteers will assist in collecting litter\, clearing abandoned encampments\, addressing undesired vegetation\, as well as other trail maintenance needs. Please wear sturdy shoes\, long pants\, and layered sleeves to be removed. Monitor the forecast and dress for the weather\, we will work through light to moderate rain and snow. Bring a reusable water bottle\, water will not be available. All other project supplies and equipment will be provided.  \n\nOnce registered\, you will receive a confirmation email. An additional email will be sent the day prior to the workday with project details; registration after 12:00 pm will not receive the details email. \n\nPlease reach out to Ashley Martin\, Trail Stewardship Program Coordinator\, with questions at ashley@friendsoftheriverfront.org.
URL:https://friendsoftheriverfront.org/event/trail-care-tuesday-river-avenue-east/
LOCATION:PA
CATEGORIES:Volunteer Event,Volunteer Opportunity
ATTACH;FMTTYPE=image/jpeg:https://friendsoftheriverfront.org/wp-content/uploads/2025/01/IMG_8189-scaled-e1738180771933.jpg
ORGANIZER;CN="Friends of the Riverfront":MAILTO:friends@friendsoftheriverfront.org
END:VEVENT
BEGIN:VEVENT
DTSTART;TZID=America/New_York:20250222T133000
DTEND;TZID=America/New_York:20250222T153000
DTSTAMP:20260422T054610
CREATED:20250122T211520Z
LAST-MODIFIED:20250221T213454Z
UID:10001822-1740231000-1740238200@friendsoftheriverfront.org
SUMMARY:Train on the Trail - Winter Tree Identification
DESCRIPTION:Registration Closed  \n\nJoin Friends of the Riverfront for 2025’s first Train on the Trail Session!\n\n\nThe Audubon Society of Western Pa will be leading an in-person training session where participants will learn how to identify winter trees based on bark\, twigs\, buds\, shape\, and even smell. Join us as we take a closer look at the diverse species of trees present along the Millvale section of the Three Rivers Heritage Trail! \n\nThe 2025 Train on the Trail series will offer enrichment opportunities for volunteers and trail users to gain introductory knowledge and skills that will benefit their trail experience\, including native and invasive plants\, watercraft safety\, tree pruning and identification\, and more!\n\nAn email will be sent the week of the event with details. Email Angela Valotta\, Trail Stewardship AmeriCorps Member\, with any questions at trailstewardship@friendsoftheriverfront.org.
URL:https://friendsoftheriverfront.org/event/train-on-the-trail-winter-tree-identification/
LOCATION:Millvale Riverfront Park\, 70 River Front Dr.\, Pittsburgh\, PA\, 15209\, United States
CATEGORIES:Train on the Trail
ATTACH;FMTTYPE=image/jpeg:https://friendsoftheriverfront.org/wp-content/uploads/2025/01/20240821_185400-scaled.jpg
ORGANIZER;CN="Friends of the Riverfront":MAILTO:friends@friendsoftheriverfront.org
GEO:40.4698967;-79.9747204
X-APPLE-STRUCTURED-LOCATION;VALUE=URI;X-ADDRESS=Millvale Riverfront Park 70 River Front Dr. Pittsburgh PA 15209 United States;X-APPLE-RADIUS=500;X-TITLE=70 River Front Dr.:geo:-79.9747204,40.4698967
END:VEVENT
BEGIN:VEVENT
DTSTART;TZID=America/New_York:20250225T100000
DTEND;TZID=America/New_York:20250225T120000
DTSTAMP:20260422T054610
CREATED:20250205T204652Z
LAST-MODIFIED:20250205T204652Z
UID:10001827-1740477600-1740484800@friendsoftheriverfront.org
SUMMARY:Trail Care Tuesday - Chateau
DESCRIPTION:Join us on the Chateau segment of the Three Rivers Heritage Trail for a Trail Care Tuesday opportunity! \n\nVolunteers will assist in collecting litter\, clearing abandoned encampments\, addressing undesired vegetation\, as well as other trail maintenance needs. Please wear sturdy shoes\, long pants\, and layered sleeves to be removed. Monitor the forecast and dress for the weather\, we will work through light to moderate rain and snow. Bring a reusable water bottle\, water will not be available. All other project supplies and equipment will be provided.  \n\nOnce registered\, you will receive a confirmation email. An additional email will be sent the day prior to the workday with project details; registration after 12:00 pm will not receive the details email. \n\nPlease reach out to Ashley Martin\, Trail Stewardship Program Coordinator\, with questions at ashley@friendsoftheriverfront.org.
URL:https://friendsoftheriverfront.org/event/trail-care-tuesday-chateau-2/
LOCATION:Kroll Drive – Three Rivers Heritage Trail Parking Lot\, 800-816 Kroll Dr\, Pittsburgh\, PA\, 15233\, United States
CATEGORIES:Volunteer Event,Volunteer Opportunity
ATTACH;FMTTYPE=image/jpeg:https://friendsoftheriverfront.org/wp-content/uploads/2025/02/20241126_103421-scaled.jpg
ORGANIZER;CN="Friends of the Riverfront%2C Events":MAILTO:greg@friendsoftheriverfront.org
END:VEVENT
END:VCALENDAR